{"text_format":"1","workbook":"xlsx","n_sheets":3,"sheets":["_Журнал","Отчет","подсчет"],"not_rendered":{"charts":8,"images":0,"macros":1,"external_links":0,"defined_names":4,"comments":0,"pivot_tables":0},"unopened":[],"bounds":{"document_bytes":16777216,"sheet_cells":100000,"rows_first":2000,"rows_last":500,"rows_between":2000,"halvings":0,"cell_chars":16384,"cell_head_chars":4096},"cells_cut":0,"cells_raw":0,"read":"whole","date_system":"1900"}

{"sheet":"_Журнал","index":0,"n_rows":730,"n_cols":12,"rows_kept":730,"cut":false,"hidden":false,"merged":[]}
["Дата","д нед","Направление работы","категория","Класс","ФИО","чел","Декларируемый запрос","Выявленный запрос","форма работы","часов","примечание"]
[" ",{"$f":"A2","v":" "}]
[" "," "]
[" "," "]
[" "," "]
[" ",{"$f":"A6","v":" "}]
[" "," "]
[" "," "]
[" "," "]
[" "," "]
[" "," "]
[" "," "]
[" "," "]
[" "," "]
[" "," "]
[" "," "]
[" "," "]
[" "," "]
[" "," "]
[" "," "]
[" "," "]
[" "," "]
[" "," "]
[" "," "]
[" "," "]
[" "," "]
[" "," "]
[" "," "]
[" "," "]
[" "," "]
[" "," "]
[" "," "]
[" "," "]
[" "," "]
[" "," "]
[" "," "]
[" "," "]
[" "," "]
[" "," "]
[" "," "]
[" "," "]
[" "," "]
[" "," "]
[" "," "]
[" "," "]
[" "," "]
[" "," "]
[" "," "]
[" "," "]
[" "," "]
[" "," "]
[" "," "]
[" "," "]
[" "," "]
[" "," "]
[" "," "]
[" "," "]
[" "," "]
[" "," "]
[" "," "]
[" "," "]
[" "," "]
[" "," "]
[" "," "]
[" "," "]
[" "," "]
[" ",{"$f":"A67","v":" "}]
[" "," "]
[" "," "]
[" "," "]
[" "," "]
[" "," "]
[" "," "]
[" "," "]
[" "," "]
[" "," "]
[" "," "]
[" "," "]
[" "," "]
[" "," "]
[" "," "]
[" "," "]
[" "," "]
[" "," "]
[" "," "]
[" "," "]
[" "," "]
[" "," "]
[" "," "]
[" "," "]
[" "," "]
[" "," "]
[" "," "]
[" "," "]
[" "," "]
[" "," "]
[" "," "]
[" "," "]
[" "," "]
[" "," "]
[" "," "]
[" "," "]
[" "," "]
[" "," "]
[" "," "]
[" "," "]
[" "," "]
[" "," "]
[" "," "]
[" "," "]
[" "," "]
[" "," "]
[" "," "]
[" "," "]
[" "," "]
[" "," "]
[" "," "]
[" "," "]
[" "," "]
[" "," "]
[" "," "]
[" "," "]
[" "," "]
[" "," "]
[" "," "]
[" "," "]
[" "," "]
[" "," "]
[" "," "]
[" "," "]
[" ",{"$f":"A131","v":" "}]
[" "," "]
[" "," "]
[" "," "]
[" "," "]
[" "," "]
[" "," "]
[" "," "]
[" "," "]
[" "," "]
[" "," "]
[" "," "]
[" "," "]
[" "," "]
[" "," "]
[" "," "]
[" "," "]
[" "," "]
[" "," "]
[" "," "]
[" "," "]
[" "," "]
[" "," "]
[" "," "]
[" "," "]
[" "," "]
[" "," "]
[" "," "]
[" "," "]
[" "," "]
[" "," "]
[" "," "]
[" "," "]
[" "," "]
[" "," "]
[" "," "]
[" "," "]
[" "," "]
[" "," "]
[" "," "]
[" "," "]
[" "," "]
[" "," "]
[" "," "]
[" "," "]
[" "," "]
[" "," "]
[" "," "]
[" "," "]
[" "," "]
[" "," "]
[" "," "]
[" "," "]
[" "," "]
[" "," "]
[" "," "]
[" "," "]
[" "," "]
[" "," "]
[" "," "]
[" "," "]
[" "," "]
[" "," "]
[" "," "]
[" ",{"$f":"A195","v":" "}]
[" "," "]
[" "," "]
[" "," "]
[" "," "]
[" "," "]
[" "," "]
[" "," "]
[" "," "]
[" "," "]
[" "," "]
[" "," "]
[" "," "]
[" "," "]
[" "," "]
[" "," "]
[" "," "]
[" "," "]
[" "," "]
[" "," "]
[" "," "]
[" "," "]
[" "," "]
[" "," "]
[" "," "]
[" "," "]
[" "," "]
[" "," "]
[" "," "]
[" "," "]
[" "," "]
[" "," "]
[" "," "]
[" "," "]
[" "," "]
[" "," "]
[" "," "]
[" "," "]
[" "," "]
[" "," "]
[" "," "]
[" "," "]
[" "," "]
[" "," "]
[" "," "]
[" "," "]
[" "," "]
[" "," "]
[" "," "]
[" "," "]
[" "," "]
[" "," "]
[" "," "]
[" "," "]
[" "," "]
[" "," "]
[" "," "]
[" "," "]
[" "," "]
[" "," "]
[" "," "]
[" "," "]
[" "," "]
[" "," "]
[" ",{"$f":"A259","v":" "}]
[" "," "]
[" "," "]
[" "," "]
[" "," "]
[" "," "]
[" "," "]
[" "," "]
[" "," "]
[" "," "]
[" "," "]
[" "," "]
[" "," "]
[" "," "]
[" "," "]
[" "," "]
[" "," "]
[" "," "]
[" "," "]
[" "," "]
[" "," "]
[" "," "]
[" "," "]
[" "," "]
[" "," "]
[" "," "]
[" "," "]
[" "," "]
[" "," "]
[" "," "]
[" "," "]
[" "," "]
[" "," "]
[" "," "]
[" "," "]
[" "," "]
[" "," "]
[" "," "]
[" "," "]
[" "," "]
[" "," "]
[" "," "]
[" "," "]
[" "," "]
[" "," "]
[" "," "]
[" "," "]
[" "," "]
[" "," "]
[" "," "]
[" "," "]
[" "," "]
[" "," "]
[" "," "]
[" "," "]
[" "," "]
[" "," "]
[" "," "]
[" "," "]
[" "," "]
[" "," "]
[" "," "]
[" "," "]
[" "," "]
[" ",{"$f":"A323","v":" "}]
[" "," "]
[" "," "]
[" "," "]
[" "," "]
[" "," "]
[" "," "]
[" "," "]
[" "," "]
[" "," "]
[" "," "]
[" "," "]
[" "," "]
[" "," "]
[" "," "]
[" "," "]
[" "," "]
[" "," "]
[" "," "]
[" "," "]
[" "," "]
[" "," "]
[" "," "]
[" "," "]
[" "," "]
[" "," "]
[" "," "]
[" "," "]
[" "," "]
[" "," "]
[" "," "]
[" "," "]
[" "," "]
[" "," "]
[" "," "]
[" "," "]
[" "," "]
[" "," "]
[" "," "]
[" "," "]
[" "," "]
[" "," "]
[" "," "]
[" "," "]
[" "," "]
[" "," "]
[" "," "]
[" "," "]
[" "," "]
[" "," "]
[" "," "]
[" "," "]
[" "," "]
[" "," "]
[" "," "]
[" "," "]
[" "," "]
[" "," "]
[" "," "]
[" "," "]
[" "," "]
[" "," "]
[" "," "]
[" "," "]
[" ",{"$f":"A387","v":" "}]
[" "," "]
[" "," "]
[" "," "]
[" "," "]
[" "," "]
[" "," "]
[" "," "]
[" "," "]
[" "," "]
[" "," "]
[" "," "]
[" "," "]
[" "," "]
[" "," "]
[" "," "]
[" "," "]
[" "," "]
[" "," "]
[" "," "]
[" "," "]
[" "," "]
[" "," "]
[" "," "]
[" "," "]
[" "," "]
[" "," "]
[" "," "]
[" "," "]
[" "," "]
[" "," "]
[" "," "]
[" "," "]
[" "," "]
[" "," "]
[" "," "]
[" "," "]
[" "," "]
[" "," "]
[" "," "]
[" "," "]
[" "," "]
[" "," "]
[" "," "]
[" "," "]
[" "," "]
[" "," "]
[" "," "]
[" "," "]
[" "," "]
[" "," "]
[" "," "]
[" "," "]
[" "," "]
[" "," "]
[" "," "]
[" "," "]
[" "," "]
[" "," "]
[" "," "]
[" "," "]
[" "," "]
[" "," "]
[" "," "]
[" ",{"$f":"A451","v":" "}]
[" "," "]
[" "," "]
[" "," "]
[" "," "]
[" "," "]
[" "," "]
[" "," "]
[" "," "]
[" "," "]
[" "," "]
[" "," "]
[" "," "]
[" "," "]
[" "," "]
[" "," "]
[" "," "]
[" "," "]
[" "," "]
[" "," "]
[" "," "]
[" "," "]
[" "," "]
[" "," "]
[" "," "]
[" "," "]
[" "," "]
[" "," "]
[" "," "]
[" "," "]
[" "," "]
[" "," "]
[" "," "]
[" "," "]
[" "," "]
[" "," "]
[" "," "]
[" "," "]
[" "," "]
[" "," "]
[" "," "]
[" "," "]
[" "," "]
[" "," "]
[" "," "]
[" "," "]
[" "," "]
[" "," "]
[" "," "]
[" "," "]
[" "," "]
[" "," "]
[" "," "]
[" "," "]
[" "," "]
[" "," "]
[" "," "]
[" "," "]
[" "," "]
[" "," "]
[" "," "]
[" "," "]
[" "," "]
[" "," "]
[" ",{"$f":"A515","v":" "}]
[" "," "]
[" "," "]
[" "," "]
[" "," "]
[" "," "]
[" "," "]
[" "," "]
[" "," "]
[" "," "]
[" "," "]
[" "," "]
[" "," "]
[" "," "]
[" "," "]
[" "," "]
[" "," "]
[" "," "]
[" "," "]
[" "," "]
[" "," "]
[" "," "]
[" "," "]
[" "," "]
[" "," "]
[" "," "]
[" "," "]
[" "," "]
[" "," "]
[" "," "]
[" "," "]
[" "," "]
[" "," "]
[" "," "]
[" "," "]
[" "," "]
[" "," "]
[" "," "]
[" "," "]
[" "," "]
[" "," "]
[" "," "]
[" "," "]
[" "," "]
[" "," "]
[" "," "]
[" "," "]
[" "," "]
[" "," "]
[" "," "]
[" "," "]
[" "," "]
[" "," "]
[" "," "]
[" "," "]
[" "," "]
[" "," "]
[" "," "]
[" "," "]
[" "," "]
[" "," "]
[" "," "]
[" "," "]
[" "," "]
[" ",{"$f":"A579","v":" "}]
[" "," "]
[" "," "]
[" "," "]
[" "," "]
[" "," "]
[" "," "]
[" "," "]
[" "," "]
[" "," "]
[" "," "]
[" "," "]
[" "," "]
[" "," "]
[" "," "]
[" "," "]
[" "," "]
[" "," "]
[" "," "]
[" "," "]
[" "," "]
[" "," "]
[" "," "]
[" "," "]
[" "," "]
[" "," "]
[" "," "]
[" "," "]
[" "," "]
[" "," "]
[" "," "]
[" "," "]
[" "," "]
[" "," "]
[" "," "]
[" "," "]
[" "," "]
[" "," "]
[" "," "]
[" "," "]
[" "," "]
[" "," "]
[" "," "]
[" "," "]
[" "," "]
[" "," "]
[" "," "]
[" "," "]
[" "," "]
[" "," "]
[" "," "]
[" "," "]
[" "," "]
[" "," "]
[" "," "]
[" "," "]
[" "," "]
[" "," "]
[" "," "]
[" "," "]
[" "," "]
[" "," "]
[" "," "]
[" "," "]
[" ",{"$f":"A643","v":" "}]
[" "," "]
[" "," "]
[" "," "]
[" "," "]
[" "," "]
[" "," "]
[" "," "]
[" "," "]
[" "," "]
[" "," "]
[" "," "]
[" "," "]
[" "," "]
[" "," "]
[" "," "]
[" "," "]
[" "," "]
[" "," "]
[" "," "]
[" "," "]
[" "," "]
[" "," "]
[" "," "]
[" "," "]
[" "," "]
[" "," "]
[" "," "]
[" "," "]
[" "," "]
[" "," "]
[" "," "]
[" "," "]
[" "," "]
[" "," "]
[" "," "]
[" "," "]
[" "," "]
[" "," "]
[" "," "]
[" "," "]
[" "," "]
[" "," "]
[" "," "]
[" "," "]
[" "," "]
[" "," "]
[" "," "]
[" "," "]
[" "," "]
[" "," "]
[" "," "]
[" "," "]
[" "," "]
[" "," "]
[" "," "]
[" "," "]
[" "," "]
[" "," "]
[" "," "]
[" "," "]
[" "," "]
[" "," "]
[" "," "]
[" ",{"$f":"A707","v":" "}]
[" "," "]
[" "," "]
[" "," "]
[" "," "]
[" "," "]
[" "," "]
[" "," "]
[" "," "]
[" "," "]
[" "," "]
[" "," "]
[" "," "]
[" "," "]
[" "," "]
[" "," "]
[" "," "]
[" "," "]
[" "," "]
[" "," "]
[" "," "]
[" "," "]
[" "," "]
[" "," "]

{"sheet":"Отчет","index":1,"n_rows":305,"n_cols":5,"rows_kept":305,"cut":false,"hidden":false,"merged":[[0,0,1,1]]}
["Отчет о психологической работе за период:",null,"с:","2017-09-01",{"$f":"IF(подсчет!A2=\"Ошибка\",\"Неправильное значение даты\",\" \")","v":" "}]
[null,null,"по:","2017-09-30",{"$f":"IF(подсчет!A3=\"Ошибка\",\"Неправильное значение даты\",\" \")","v":" "}]
[]
[]
[null,null,"часов","чел."]
["А1","Психолого-педагогическое и методическое сопровождение реализации основных и дополнительных образовательных программ",{"$f":"C53","v":0},{"$f":"D53","v":0}]
["А2","Психологическая экспертиза (оценка) комфортности и безопасности образовательной среды образовательных организаций",{"$f":"C95","v":0},{"$f":"D95","v":0}]
["А3","Психологическое консультирование субъектов образовательного процесса ",{"$f":"C143","v":0},{"$f":"D143","v":0}]
["А4","Коррекционно-развивающая работа с обучающимися, в том числе работа по восстановлению и реабилитации",{"$f":"C184","v":0},{"$f":"D184","v":0}]
["А5","Психологическая диагностика обучающихся",{"$f":"C226","v":0},{"$f":"D226","v":0}]
["А6","Психологическое просвещение субъектов образовательного процесса",{"$f":"C266","v":0},{"$f":"D266","v":0}]
["А7","Психологическая профилактика (профессиональная деятельность, направленная на сохранение и укрепление психологического здоровья обучающихся в процессе обучения и воспитания в образовательных организациях)",{"$f":"C305","v":0},{"$f":"D305","v":0}]
["НВвДО","Деятельность, не входящая в круг должностных обязанностей",{"$f":"подсчет!D47","v":0},{"$f":"подсчет!C47","v":0}]
[]
[]
[]
[]
[]
[]
[]
[]
[]
[]
[]
[]
[]
[]
[]
[]
[]
[]
[]
[]
[]
[]
[]
[]
[]
[]
[]
[]
[]
[]
[]
[]
["А1","Психолого-педагогическое и методическое сопровождение реализации основных и дополнительных образовательных программ","часов","чел"]
["А1-1","Формирование и реализация планов развивающей работы с обучающимися с учетом их индивидуально-психологических особенностей",{"$f":"подсчет!D4","v":0},{"$f":"подсчет!C4","v":0}]
["А1-2","Разработка программ развития универсальных учебных действий, программ воспитания и социализации обучающихся, воспитанников, коррекционных программ",{"$f":"подсчет!D5","v":0},{"$f":"подсчет!C5","v":0}]
["А1-3","Разработка психологических рекомендаций по формированию и реализации индивидуальных учебных планов для творчески одаренных обучающихся и воспитанников",{"$f":"подсчет!D6","v":0},{"$f":"подсчет!C6","v":0}]
["А1-4","Разработка совместно с педагогом индивидуальных учебных планов обучающихся с учетом их психологических особенностей",{"$f":"подсчет!D7","v":0},{"$f":"подсчет!C7","v":0}]
["А1-5","Разработка и реализация мониторинга личностной и метапредметной составляющей результатов освоения основной общеобразовательной программы, установленной федеральными государственными образовательными стандартами",{"$f":"подсчет!D8","v":0},{"$f":"подсчет!C8","v":0}]
["А1-6","Оформление и ведение документации (планы работы, протоколы, журналы, психологические заключения и отчеты)",{"$f":"подсчет!D9","v":0},{"$f":"подсчет!C9","v":0}]
[null,"Всего:",{"$f":"SUM(C47:C52)","v":0},{"$f":"SUM(D47:D52)","v":0}]
[]
[]
[]
[]
[]
[]
[]
[]
[]
[]
[]
[]
[]
[]
[]
[]
[]
[]
[]
[]
[]
[]
[]
[]
[]
[]
[]
[]
[]
[]
[]
[]
[]
[]
[]
["А2","Психологическая экспертиза (оценка) комфортности и безопасности образовательной среды образовательных организаций","часов","чел"]
["А2-1","Психологический мониторинг и анализ эффективности использования методов и средств образовательной деятельности",{"$f":"подсчет!D10","v":0},{"$f":"подсчет!C10","v":0}]
["А2-2","Психологическая экспертиза программ развития образовательной организации с целью определения степени безопасности и комфортности образовательной среды",{"$f":"подсчет!D11","v":0},{"$f":"подсчет!C11","v":0}]
["А2-3","Консультирование педагогов и преподавателей образовательных организаций при выборе образовательных технологий с учетом индивидуально-психологических особенностей и образовательных потребностей обучающихся ",{"$f":"подсчет!D12","v":0},{"$f":"подсчет!C12","v":0}]
["А2-4","Оказание психологической поддержки педагогам в проектной деятельности по совершенствованию образовательного процесса",{"$f":"подсчет!D13","v":0},{"$f":"подсчет!C13","v":0}]
["А2-5","Ведение профессиональной документации (планы работы, протоколы, журналы, психологические заключения и отчеты)",{"$f":"подсчет!D14","v":0},{"$f":"подсчет!C14","v":0}]
[null,"Всего:",{"$f":"SUM(C90:C94)","v":0},{"$f":"SUM(D90:D94)","v":0}]
[]
[]
[]
[]
[]
[]
[]
[]
[]
[]
[]
[]
[]
[]
[]
[]
[]
[]
[]
[]
[]
[]
[]
[]
[]
[]
[]
[]
[]
[]
[]
[]
[]
[]
[]
[]
[]
[]
[]
[]
["А3","Психологическое консультирование субъектов образовательного процесса ","часов","чел"]
["А3-1","Консультирование обучающихся по проблемам самопознания, профессионального самоопределения, личностным проблемам, вопросам взаимоотношений в коллективе и другим вопросам",{"$f":"подсчет!D15","v":0},{"$f":"подсчет!C15","v":0}]
["А3-2","Консультирование администрации, педагогов, преподавателей и других работников образовательных организаций по проблемам взаимоотношений в трудовом коллективе и другим профессиональным вопросам",{"$f":"подсчет!D16","v":0},{"$f":"подсчет!C16","v":0}]
["А3-3","Консультирование педагогов и преподавателей по вопросам разработки и реализации индивидуальных программ для построения индивидуального образовательного маршрута с учетом особенностей и образовательных потребностей конкретного обучающегося",{"$f":"подсчет!D17","v":0},{"$f":"подсчет!C17","v":0}]
["А3-4","Консультирование родителей (законных представителей) по проблемам взаимоотношений с обучающимися, их развития, профессионального самоопределения и другим вопросам",{"$f":"подсчет!D18","v":0},{"$f":"подсчет!C18","v":0}]
["А3-5","Консультирование администрации образовательной организации, педагогов, преподавателей, родителей (законных представителей) по психологическим проблемам обучения, воспитания и развития обучающихся",{"$f":"подсчет!D19","v":0},{"$f":"подсчет!C19","v":0}]
["А3-6","Ведение профессиональной документации (планы работы, протоколы, журналы, психологические заключения и отчеты)",{"$f":"подсчет!D20","v":0},{"$f":"подсчет!C20","v":0}]
[null,"Всего:",{"$f":"SUM(C137:C142)","v":0},{"$f":"SUM(D137:D142)","v":0}]
[]
[]
[]
[]
[]
[]
[]
[]
[]
[]
[]
[]
[]
[]
[]
[]
[]
[]
[]
[]
[]
[]
[]
[]
[]
[]
[]
[]
[]
[]
[]
[]
[]
[]
["А4","Коррекционно-развивающая работа с детьми и обучающимися, в том числе работа по восстановлению и реабилитации","часов","чел"]
["А4-1","Разработка и реализация планов проведения коррекционно-развивающих занятий для детей и обучающихся, направленных на развитие интеллектуальной, эмоционально-волевой сферы, познавательных процессов, снятие тревожности, решение проблем в сфере общения, преодоление проблем в общении и поведении",{"$f":"подсчет!D21","v":0},{"$f":"подсчет!C21","v":0}]
["А4-2","Организация и совместное осуществление педагогами, учителями-дефектологами, учителями-логопедами, социальными педагогами психолого-педагогической коррекции выявленных в психическом развитии детей и обучающихся недостатков, нарушений социализации и адаптации",{"$f":"подсчет!D22","v":0},{"$f":"подсчет!C22","v":0}]
["А4-3","Формирование и реализация планов по созданию образовательной среды для обучающихся с особыми образовательными потребностями, в том числе одаренных обучающихся",{"$f":"подсчет!D23","v":0},{"$f":"подсчет!C23","v":0}]
["А4-4","Проектирование в сотрудничестве с педагогами индивидуальных образовательных маршрутов для обучающихся",{"$f":"подсчет!D24","v":0},{"$f":"подсчет!C24","v":0}]
["А4-5","Ведение профессиональной документации (планы работы, протоколы, журналы, психологические заключения и отчеты)",{"$f":"подсчет!D25","v":0},{"$f":"подсчет!C25","v":0}]
[null,"Всего:",{"$f":"SUM(C179:C183)","v":0},{"$f":"SUM(D179:D183)","v":0}]
[]
[]
[]
[]
[]
[]
[]
[]
[]
[]
[]
[]
[]
[]
[]
[]
[]
[]
[]
[]
[]
[]
[]
[]
[]
[]
[]
[]
[]
[]
[]
[]
[]
["А5","Психологическая диагностика детей и обучающихся","часов","чел"]
["А5-1","Психологическая диагностика с использованием современных образовательных технологий, включая информационные образовательные ресурсы",{"$f":"подсчет!D26","v":0},{"$f":"подсчет!C26","v":0}]
["А5-2","Скрининговые обследования (мониторинг) с целью анализа динамики психического развития, определение лиц, нуждающихся в психологической помощи",{"$f":"подсчет!D27","v":0},{"$f":"подсчет!C27","v":0}]
["А5-3","Составление психолого-педагогических заключений по результатам диагностического обследования с целью ориентации педагогов, преподавателей, администрации образовательных организаций и родителей (законных представителей) в проблемах личностного и социального развития обучающихся",{"$f":"подсчет!D28","v":0},{"$f":"подсчет!C28","v":0}]
["А5-4","Определение степени нарушений в психическом, личностном и социальном развитии детей и обучающихся, участие в работе психолого-медико-педагогических комиссий и консилиумов",{"$f":"подсчет!D29","v":0},{"$f":"подсчет!C29","v":0}]
["А5-5","Изучение интересов, склонностей, способностей детей и обучающихся, предпосылок одаренности",{"$f":"подсчет!D30","v":0},{"$f":"подсчет!C30","v":0}]
["А5-6","Осуществление с целью помощи в профориентации комплекса диагностических мероприятий по изучению способностей, склонностей, направленности и мотивации, личностных, характерологических и прочих особенностей в соответствии с федеральными государственными образовательными стандартами общего образования соответствующего уровня",{"$f":"подсчет!D31","v":0},{"$f":"подсчет!C31","v":0}]
["А5-7","Ведение профессиональной документации (планы работы, протоколы, журналы, психологические заключения и отчеты)",{"$f":"подсчет!D32","v":0},{"$f":"подсчет!C32","v":0}]
[null,"Всего:",{"$f":"SUM(C219:C225)","v":0},{"$f":"SUM(D219:D225)","v":0}]
[]
[]
[]
[]
[]
[]
[]
[]
[]
[]
[]
[]
[]
[]
[]
[]
[]
[]
[]
[]
[]
[]
[]
[]
[]
[]
[]
[]
[]
[]
[]
["А6","Психологическое просвещение субъектов образовательного процесса","часов","чел"]
["А6-1","Ознакомление педагогов, преподавателей и администрации образовательных организаций с современными исследованиями в области психологии дошкольного, младшего школьного, подросткового, юношеского возраста",{"$f":"подсчет!D33","v":0},{"$f":"подсчет!C33","v":0}]
["А6-2","Информирование субъектов образовательного процесса о формах и результатах своей профессиональной деятельности",{"$f":"подсчет!D34","v":0},{"$f":"подсчет!C34","v":0}]
["А6-3","Ознакомление педагогов и администрации образовательных организаций и родителей (законных представителей) с основными условиями психического развития ребенка (в рамках консультирования, педагогических советов)",{"$f":"подсчет!D35","v":0},{"$f":"подсчет!C35","v":0}]
["А6-4","Ознакомление педагогов, преподавателей и администрации образовательных организаций с современными исследованиями в области профилактики социальной адаптации ",{"$f":"подсчет!D36","v":0},{"$f":"подсчет!C36","v":0}]
["А6-5","Просветительская работа с родителями (законными представителями) по принятию особенностей поведения, миропонимания, интересов и склонностей, в том числе одаренности ребенка",{"$f":"подсчет!D37","v":0},{"$f":"подсчет!C37","v":0}]
["А6-6","Информирование о факторах, препятствующих развитию личности детей, воспитанников и обучающихся о мерах по оказанию им различного вида психологической помощи",{"$f":"подсчет!D38","v":0},{"$f":"подсчет!C38","v":0}]
["А6-7","Ведение профессиональной документации (планы работы, протоколы, журналы, психологические заключения и отчеты)",{"$f":"подсчет!D39","v":0},{"$f":"подсчет!C39","v":0}]
[null,"Всего:",{"$f":"SUM(C259:C265)","v":0},{"$f":"SUM(D259:D265)","v":0}]
[]
[]
[]
[]
[]
[]
[]
[]
[]
[]
[]
[]
[]
[]
[]
[]
[]
[]
[]
[]
[]
[]
[]
[]
[]
[]
[]
[]
[]
[]
["А7","Психологическая профилактика (профессиональная деятельность, направленная на сохранение и укрепление психологического здоровья обучающихся в процессе обучения и воспитания в образовательных организациях)","часов","чел"]
["А7-1","Выявление условий, неблагоприятно влияющих на развитие личности обучающихся",{"$f":"подсчет!D40","v":0},{"$f":"подсчет!C40","v":0}]
["А7-2","Разработка психологических рекомендаций по проектированию образовательной среды, комфортной и безопасной для личностного развития обучающегося на каждом возрастном этапе, для своевременного предупреждения нарушений в развитии и становлении личности, ее аффективной, интеллектуальной и волевой сфер",{"$f":"подсчет!D41","v":0},{"$f":"подсчет!C41","v":0}]
["А7-3","Планирование и реализация совместно с педагогом превентивных мероприятий по профилактике возникновения социальной дезадаптации, аддикций и девиаций поведения",{"$f":"подсчет!D42","v":0},{"$f":"подсчет!C42","v":0}]
["А7-4","Разъяснение субъектам образовательного процесса необходимости применения сберегающих здоровье технологий, оценка результатов их применения ",{"$f":"подсчет!D43","v":0},{"$f":"подсчет!C43","v":0}]
["А7-5","Разработка рекомендаций субъектам образовательного процесса по вопросам психологической готовности и адаптации к новым образовательным условиям (поступление в дошкольную образовательную организацию, начало обучения, переход на новый уровень образования, в новую образовательную организацию)",{"$f":"подсчет!D44","v":0},{"$f":"подсчет!C44","v":0}]
["А7-6","Разработка рекомендаций для педагогов, преподавателей по вопросам социальной интеграции и социализации дезадаптивных обучающихся и воспитанников, обучающихся с девиантными и аддиктивными проявлениями в поведении",{"$f":"подсчет!D45","v":0},{"$f":"подсчет!C45","v":0}]
["А7-7","Ведение профессиональной документации (планы работы, протоколы, журналы, психологические заключения и отчеты)",{"$f":"подсчет!D46","v":0},{"$f":"подсчет!C46","v":0}]
[null,"Всего:",{"$f":"SUM(C298:C304)","v":0},{"$f":"SUM(D298:D304)","v":0}]

{"sheet":"подсчет","index":2,"n_rows":47,"n_cols":225,"rows_kept":47,"cut":false,"hidden":false,"merged":[]}
[null,null,"чел","меропр","даты","категор","чел","меропр","чел","меропр","категор","чел","меропр","чел","меропр","категор","чел","меропр","чел","меропр","категор","чел","меропр","чел","меропр","категор","чел","меропр","чел","меропр","категор","чел","меропр","чел","меропр","категор","чел","меропр","чел","меропр","категор","чел","меропр","чел","меропр","категор","чел","меропр","чел","меропр","категор","чел","меропр","чел","меропр","категор","чел","меропр","чел","меропр","категор","чел","меропр","чел","меропр","категор","чел","меропр","чел","меропр","категор","чел","меропр","чел","меропр","категор","чел","меропр","чел","меропр","категор","чел","меропр","чел","меропр","категор","чел","меропр","чел","меропр","категор","чел","меропр","чел","меропр","категор","чел","меропр","чел","меропр","категор","чел","меропр","чел","меропр","категор","чел","меропр","чел","меропр","категор","чел","меропр","чел","меропр","категор","чел","меропр","чел","меропр","категор","чел","меропр","чел","меропр","категор","чел","меропр","чел","меропр","категор","чел","меропр","чел","меропр","категор","чел","меропр","чел","меропр","категор","чел","меропр","чел","меропр","категор","чел","меропр","чел","меропр","категор","чел","меропр","чел","меропр","категор","чел","меропр","чел","меропр","категор","чел","меропр","чел","меропр","категор","чел","меропр","чел","меропр","категор","чел","меропр","чел","меропр","категор","чел","меропр","чел","меропр","категор","чел","меропр","чел","меропр","категор","чел","меропр","чел","меропр","категор","чел","меропр","чел","меропр","категор","чел","меропр","чел","меропр","категор","чел","меропр","чел","меропр","категор","чел","меропр","чел","меропр","категор","чел","меропр","чел","меропр","категор","чел","меропр","чел","меропр","категор","чел","меропр","чел","меропр"]
[{"$f":"IFERROR(C2,\"Ошибка\")","v":"2017-08-31"},"с",{"$f":"Отчет!D1-1","v":"2017-08-31"},null,{"$f":"AND(_Журнал!A1>подсчет!$C$2,_Журнал!A1<подсчет!$C$3)","v":false},"А1-1",{"$f":"IF($E2=TRUE,VLOOKUP(подсчет!F1,_Журнал!$C1:$L1,5,FALSE),\" \")","v":" "},{"$f":"IF($E2=TRUE,VLOOKUP(подсчет!F1,_Журнал!$C1:$L1,9,FALSE),\" \")","v":" "},{"$f":"IFERROR(G2,\" \")","v":" "},{"$f":"IFERROR(H2,\" \")","v":" "},"А1-2",{"$f":"IF($E2=TRUE,VLOOKUP(подсчет!K1,_Журнал!$C1:$L1,5,FALSE),\" \")","v":" "},{"$f":"IF($E2=TRUE,VLOOKUP(подсчет!K1,_Журнал!$C1:$L1,9,FALSE),\" \")","v":" "},{"$f":"IFERROR(L2,\" \")","v":" "}," ","А1-3",{"$f":"IF($E2=TRUE,VLOOKUP(подсчет!P1,_Журнал!$C1:$L1,5,FALSE),\" \")","v":" "},{"$f":"IF($E2=TRUE,VLOOKUP(подсчет!P1,_Журнал!$C1:$L1,9,FALSE),\" \")","v":" "},{"$f":"IFERROR(Q2,\" \")","v":" "}," ","А1-4",{"$f":"IF($E2=TRUE,VLOOKUP(подсчет!U1,_Журнал!$C1:$L1,5,FALSE),\" \")","v":" "},{"$f":"IF($E2=TRUE,VLOOKUP(подсчет!U1,_Журнал!$C1:$L1,9,FALSE),\" \")","v":" "},{"$f":"IFERROR(V2,\" \")","v":" "}," ","А1-5",{"$f":"IF($E2=TRUE,VLOOKUP(подсчет!Z1,_Журнал!$C1:$L1,5,FALSE),\" \")","v":" "},{"$f":"IF($E2=TRUE,VLOOKUP(подсчет!Z1,_Журнал!$C1:$L1,9,FALSE),\" \")","v":" "},{"$f":"IFERROR(AA2,\" \")","v":" "}," ","А1-6",{"$f":"IF($E2=TRUE,VLOOKUP(подсчет!AE1,_Журнал!$C1:$L1,5,FALSE),\" \")","v":" "},{"$f":"IF($E2=TRUE,VLOOKUP(подсчет!AE1,_Журнал!$C1:$L1,9,FALSE),\" \")","v":" "},{"$f":"IFERROR(AF2,\" \")","v":" "}," ","А2-1",{"$f":"IF($E2=TRUE,VLOOKUP(подсчет!AJ1,_Журнал!$C1:$L1,5,FALSE),\" \")","v":" "},{"$f":"IF($E2=TRUE,VLOOKUP(подсчет!AJ1,_Журнал!$C1:$L1,9,FALSE),\" \")","v":" "},{"$f":"IFERROR(AK2,\" \")","v":" "},{"$f":"IFERROR(AL2,\" \")","v":" "},"А2-2",{"$f":"IF($E2=TRUE,VLOOKUP(подсчет!AO1,_Журнал!$C1:$L1,5,FALSE),\" \")","v":" "},{"$f":"IF($E2=TRUE,VLOOKUP(подсчет!AO1,_Журнал!$C1:$L1,9,FALSE),\" \")","v":" "},{"$f":"IFERROR(AP2,\" \")","v":" "},{"$f":"IFERROR(AQ2,\" \")","v":" "},"А2-3",{"$f":"IF($E2=TRUE,VLOOKUP(подсчет!AT1,_Журнал!$C1:$L1,5,FALSE),\" \")","v":" "},{"$f":"IF($E2=TRUE,VLOOKUP(подсчет!AT1,_Журнал!$C1:$L1,9,FALSE),\" \")","v":" "},{"$f":"IFERROR(AU2,\" \")","v":" "},{"$f":"IFERROR(AV2,\" \")","v":" "},"А2-4",{"$f":"IF($E2=TRUE,VLOOKUP(подсчет!AY1,_Журнал!$C1:$L1,5,FALSE),\" \")","v":" "},{"$f":"IF($E2=TRUE,VLOOKUP(подсчет!AY1,_Журнал!$C1:$L1,9,FALSE),\" \")","v":" "},{"$f":"IFERROR(AZ2,\" \")","v":" "},{"$f":"IFERROR(BA2,\" \")","v":" "},"А2-5",{"$f":"IF($E2=TRUE,VLOOKUP(подсчет!BD1,_Журнал!$C1:$L1,5,FALSE),\" \")","v":" "},{"$f":"IF($E2=TRUE,VLOOKUP(подсчет!BD1,_Журнал!$C1:$L1,9,FALSE),\" \")","v":" "},{"$f":"IFERROR(BE2,\" \")","v":" "},{"$f":"IFERROR(BF2,\" \")","v":" "},"А3-1",{"$f":"IF($E2=TRUE,VLOOKUP(подсчет!BI1,_Журнал!$C1:$L1,5,FALSE),\" \")","v":" "},{"$f":"IF($E2=TRUE,VLOOKUP(подсчет!BI1,_Журнал!$C1:$L1,9,FALSE),\" \")","v":" "},{"$f":"IFERROR(BJ2,\" \")","v":" "},{"$f":"IFERROR(BK2,\" \")","v":" "},"А3-2",{"$f":"IF($E2=TRUE,VLOOKUP(подсчет!BN1,_Журнал!$C1:$L1,5,FALSE),\" \")","v":" "},{"$f":"IF($E2=TRUE,VLOOKUP(подсчет!BN1,_Журнал!$C1:$L1,9,FALSE),\" \")","v":" "},{"$f":"IFERROR(BO2,\" \")","v":" "},{"$f":"IFERROR(BP2,\" \")","v":" "},"А3-3",{"$f":"IF($E2=TRUE,VLOOKUP(подсчет!BS1,_Журнал!$C1:$L1,5,FALSE),\" \")","v":" "},{"$f":"IF($E2=TRUE,VLOOKUP(подсчет!BS1,_Журнал!$C1:$L1,9,FALSE),\" \")","v":" "},{"$f":"IFERROR(BT2,\" \")","v":" "},{"$f":"IFERROR(BU2,\" \")","v":" "},"А3-4",{"$f":"IF($E2=TRUE,VLOOKUP(подсчет!BX1,_Журнал!$C1:$L1,5,FALSE),\" \")","v":" "},{"$f":"IF($E2=TRUE,VLOOKUP(подсчет!BX1,_Журнал!$C1:$L1,9,FALSE),\" \")","v":" "},{"$f":"IFERROR(BY2,\" \")","v":" "},{"$f":"IFERROR(BZ2,\" \")","v":" "},"А3-5",{"$f":"IF($E2=TRUE,VLOOKUP(подсчет!CC1,_Журнал!$C1:$L1,5,FALSE),\" \")","v":" "},{"$f":"IF($E2=TRUE,VLOOKUP(подсчет!CC1,_Журнал!$C1:$L1,9,FALSE),\" \")","v":" "},{"$f":"IFERROR(CD2,\" \")","v":" "},{"$f":"IFERROR(CE2,\" \")","v":" "},"А3-6",{"$f":"IF($E2=TRUE,VLOOKUP(подсчет!CH1,_Журнал!$C1:$L1,5,FALSE),\" \")","v":" "},{"$f":"IF($E2=TRUE,VLOOKUP(подсчет!CH1,_Журнал!$C1:$L1,9,FALSE),\" \")","v":" "},{"$f":"IFERROR(CI2,\" \")","v":" "},{"$f":"IFERROR(CJ2,\" \")","v":" "},"А4-1",{"$f":"IF($E2=TRUE,VLOOKUP(подсчет!CM1,_Журнал!$C1:$L1,5,FALSE),\" \")","v":" "},{"$f":"IF($E2=TRUE,VLOOKUP(подсчет!CM1,_Журнал!$C1:$L1,9,FALSE),\" \")","v":" "},{"$f":"IFERROR(CN2,\" \")","v":" "},{"$f":"IFERROR(CO2,\" \")","v":" "},"А4-2",{"$f":"IF($E2=TRUE,VLOOKUP(подсчет!CR1,_Журнал!$C1:$L1,5,FALSE),\" \")","v":" "},{"$f":"IF($E2=TRUE,VLOOKUP(подсчет!CR1,_Журнал!$C1:$L1,9,FALSE),\" \")","v":" "},{"$f":"IFERROR(CS2,\" \")","v":" "},{"$f":"IFERROR(CT2,\" \")","v":" "},"А4-3",{"$f":"IF($E2=TRUE,VLOOKUP(подсчет!CW1,_Журнал!$C1:$L1,5,FALSE),\" \")","v":" "},{"$f":"IF($E2=TRUE,VLOOKUP(подсчет!CW1,_Журнал!$C1:$L1,9,FALSE),\" \")","v":" "},{"$f":"IFERROR(CX2,\" \")","v":" "},{"$f":"IFERROR(CY2,\" \")","v":" "},"А4-4",{"$f":"IF($E2=TRUE,VLOOKUP(подсчет!DB1,_Журнал!$C1:$L1,5,FALSE),\" \")","v":" "},{"$f":"IF($E2=TRUE,VLOOKUP(подсчет!DB1,_Журнал!$C1:$L1,9,FALSE),\" \")","v":" "},{"$f":"IFERROR(DC2,\" \")","v":" "},{"$f":"IFERROR(DD2,\" \")","v":" "},"А4-5",{"$f":"IF($E2=TRUE,VLOOKUP(подсчет!DG1,_Журнал!$C1:$L1,5,FALSE),\" \")","v":" "},{"$f":"IF($E2=TRUE,VLOOKUP(подсчет!DG1,_Журнал!$C1:$L1,9,FALSE),\" \")","v":" "},{"$f":"IFERROR(DH2,\" \")","v":" "},{"$f":"IFERROR(DI2,\" \")","v":" "},"А5-1",{"$f":"IF($E2=TRUE,VLOOKUP(подсчет!DL1,_Журнал!$C1:$L1,5,FALSE),\" \")","v":" "},{"$f":"IF($E2=TRUE,VLOOKUP(подсчет!DL1,_Журнал!$C1:$L1,9,FALSE),\" \")","v":" "},{"$f":"IFERROR(DM2,\" \")","v":" "},{"$f":"IFERROR(DN2,\" \")","v":" "},"А5-2",{"$f":"IF($E2=TRUE,VLOOKUP(подсчет!DQ1,_Журнал!$C1:$L1,5,FALSE),\" \")","v":" "},{"$f":"IF($E2=TRUE,VLOOKUP(подсчет!DQ1,_Журнал!$C1:$L1,9,FALSE),\" \")","v":" "},{"$f":"IFERROR(DR2,\" \")","v":" "},{"$f":"IFERROR(DS2,\" \")","v":" "},"А5-3",{"$f":"IF($E2=TRUE,VLOOKUP(подсчет!DV1,_Журнал!$C1:$L1,5,FALSE),\" \")","v":" "},{"$f":"IF($E2=TRUE,VLOOKUP(подсчет!DV1,_Журнал!$C1:$L1,9,FALSE),\" \")","v":" "},{"$f":"IFERROR(DW2,\" \")","v":" "},{"$f":"IFERROR(DX2,\" \")","v":" "},"А5-4",{"$f":"IF($E2=TRUE,VLOOKUP(подсчет!EA1,_Журнал!$C1:$L1,5,FALSE),\" \")","v":" "},{"$f":"IF($E2=TRUE,VLOOKUP(подсчет!EA1,_Журнал!$C1:$L1,9,FALSE),\" \")","v":" "},{"$f":"IFERROR(EB2,\" \")","v":" "},{"$f":"IFERROR(EC2,\" \")","v":" "},"А5-5",{"$f":"IF($E2=TRUE,VLOOKUP(подсчет!EF1,_Журнал!$C1:$L1,5,FALSE),\" \")","v":" "},{"$f":"IF($E2=TRUE,VLOOKUP(подсчет!EF1,_Журнал!$C1:$L1,9,FALSE),\" \")","v":" "},{"$f":"IFERROR(EG2,\" \")","v":" "},{"$f":"IFERROR(EH2,\" \")","v":" "},"А5-6",{"$f":"IF($E2=TRUE,VLOOKUP(подсчет!EK1,_Журнал!$C1:$L1,5,FALSE),\" \")","v":" "},{"$f":"IF($E2=TRUE,VLOOKUP(подсчет!EK1,_Журнал!$C1:$L1,9,FALSE),\" \")","v":" "},{"$f":"IFERROR(EL2,\" \")","v":" "},{"$f":"IFERROR(EM2,\" \")","v":" "},"А5-7",{"$f":"IF($E2=TRUE,VLOOKUP(подсчет!EP1,_Журнал!$C1:$L1,5,FALSE),\" \")","v":" "},{"$f":"IF($E2=TRUE,VLOOKUP(подсчет!EP1,_Журнал!$C1:$L1,9,FALSE),\" \")","v":" "},{"$f":"IFERROR(EQ2,\" \")","v":" "},{"$f":"IFERROR(ER2,\" \")","v":" "},"А6-1",{"$f":"IF($E2=TRUE,VLOOKUP(подсчет!EU1,_Журнал!$C1:$L1,5,FALSE),\" \")","v":" "},{"$f":"IF($E2=TRUE,VLOOKUP(подсчет!EU1,_Журнал!$C1:$L1,9,FALSE),\" \")","v":" "},{"$f":"IFERROR(EV2,\" \")","v":" "},{"$f":"IFERROR(EW2,\" \")","v":" "},"А6-2",{"$f":"IF($E2=TRUE,VLOOKUP(подсчет!EZ1,_Журнал!$C1:$L1,5,FALSE),\" \")","v":" "},{"$f":"IF($E2=TRUE,VLOOKUP(подсчет!EZ1,_Журнал!$C1:$L1,9,FALSE),\" \")","v":" "},{"$f":"IFERROR(FA2,\" \")","v":" "},{"$f":"IFERROR(FB2,\" \")","v":" "},"А6-3",{"$f":"IF($E2=TRUE,VLOOKUP(подсчет!FE1,_Журнал!$C1:$L1,5,FALSE),\" \")","v":" "},{"$f":"IF($E2=TRUE,VLOOKUP(подсчет!FE1,_Журнал!$C1:$L1,9,FALSE),\" \")","v":" "},{"$f":"IFERROR(FF2,\" \")","v":" "},{"$f":"IFERROR(FG2,\" \")","v":" "},"А6-4",{"$f":"IF($E2=TRUE,VLOOKUP(подсчет!FJ1,_Журнал!$C1:$L1,5,FALSE),\" \")","v":" "},{"$f":"IF($E2=TRUE,VLOOKUP(подсчет!FJ1,_Журнал!$C1:$L1,9,FALSE),\" \")","v":" "},{"$f":"IFERROR(FK2,\" \")","v":" "},{"$f":"IFERROR(FL2,\" \")","v":" "},"А6-5",{"$f":"IF($E2=TRUE,VLOOKUP(подсчет!FO1,_Журнал!$C1:$L1,5,FALSE),\" \")","v":" "},{"$f":"IF($E2=TRUE,VLOOKUP(подсчет!FO1,_Журнал!$C1:$L1,9,FALSE),\" \")","v":" "},{"$f":"IFERROR(FP2,\" \")","v":" "},{"$f":"IFERROR(FQ2,\" \")","v":" "},"А6-6",{"$f":"IF($E2=TRUE,VLOOKUP(подсчет!FT1,_Журнал!$C1:$L1,5,FALSE),\" \")","v":" "},{"$f":"IF($E2=TRUE,VLOOKUP(подсчет!FT1,_Журнал!$C1:$L1,9,FALSE),\" \")","v":" "},{"$f":"IFERROR(FU2,\" \")","v":" "},{"$f":"IFERROR(FV2,\" \")","v":" "},"А6-7",{"$f":"IF($E2=TRUE,VLOOKUP(подсчет!FY1,_Журнал!$C1:$L1,5,FALSE),\" \")","v":" "},{"$f":"IF($E2=TRUE,VLOOKUP(подсчет!FY1,_Журнал!$C1:$L1,9,FALSE),\" \")","v":" "},{"$f":"IFERROR(FZ2,\" \")","v":" "},{"$f":"IFERROR(GA2,\" \")","v":" "},"А7-1",{"$f":"IF($E2=TRUE,VLOOKUP(подсчет!GD1,_Журнал!$C1:$L1,5,FALSE),\" \")","v":" "},{"$f":"IF($E2=TRUE,VLOOKUP(подсчет!GD1,_Журнал!$C1:$L1,9,FALSE),\" \")","v":" "},{"$f":"IFERROR(GE2,\" \")","v":" "},{"$f":"IFERROR(GF2,\" \")","v":" "},"А7-2",{"$f":"IF($E2=TRUE,VLOOKUP(подсчет!GI1,_Журнал!$C1:$L1,5,FALSE),\" \")","v":" "},{"$f":"IF($E2=TRUE,VLOOKUP(подсчет!GI1,_Журнал!$C1:$L1,9,FALSE),\" \")","v":" "},{"$f":"IFERROR(GJ2,\" \")","v":" "},{"$f":"IFERROR(GK2,\" \")","v":" "},"А7-3",{"$f":"IF($E2=TRUE,VLOOKUP(подсчет!GN1,_Журнал!$C1:$L1,5,FALSE),\" \")","v":" "},{"$f":"IF($E2=TRUE,VLOOKUP(подсчет!GN1,_Журнал!$C1:$L1,9,FALSE),\" \")","v":" "},{"$f":"IFERROR(GO2,\" \")","v":" "},{"$f":"IFERROR(GP2,\" \")","v":" "},"А7-4",{"$f":"IF($E2=TRUE,VLOOKUP(подсчет!GS1,_Журнал!$C1:$L1,5,FALSE),\" \")","v":" "},{"$f":"IF($E2=TRUE,VLOOKUP(подсчет!GS1,_Журнал!$C1:$L1,9,FALSE),\" \")","v":" "},{"$f":"IFERROR(GT2,\" \")","v":" "},{"$f":"IFERROR(GU2,\" \")","v":" "},"А7-5",{"$f":"IF($E2=TRUE,VLOOKUP(подсчет!GX1,_Журнал!$C1:$L1,5,FALSE),\" \")","v":" "},{"$f":"IF($E2=TRUE,VLOOKUP(подсчет!GX1,_Журнал!$C1:$L1,9,FALSE),\" \")","v":" "},{"$f":"IFERROR(GY2,\" \")","v":" "},{"$f":"IFERROR(GZ2,\" \")","v":" "},"А7-6",{"$f":"IF($E2=TRUE,VLOOKUP(подсчет!HC1,_Журнал!$C1:$L1,5,FALSE),\" \")","v":" "},{"$f":"IF($E2=TRUE,VLOOKUP(подсчет!HC1,_Журнал!$C1:$L1,9,FALSE),\" \")","v":" "},{"$f":"IFERROR(HD2,\" \")","v":" "},{"$f":"IFERROR(HE2,\" \")","v":" "},"А7-7",{"$f":"IF($E2=TRUE,VLOOKUP(подсчет!HH1,_Журнал!$C1:$L1,5,FALSE),\" \")","v":" "},{"$f":"IF($E2=TRUE,VLOOKUP(подсчет!HH1,_Журнал!$C1:$L1,9,FALSE),\" \")","v":" "},{"$f":"IFERROR(HI2,\" \")","v":" "},{"$f":"IFERROR(HJ2,\" \")","v":" "},"НВвДО",{"$f":"IF($E2=TRUE,VLOOKUP(подсчет!HM1,_Журнал!$C1:$L1,5,FALSE),\" \")","v":" "},{"$f":"IF($E2=TRUE,VLOOKUP(подсчет!HM1,_Журнал!$C1:$L1,9,FALSE),\" \")","v":" "},{"$f":"IFERROR(HN2,\" \")","v":" "},{"$f":"IFERROR(HO2,\" \")","v":" "}]
[{"$f":"IFERROR(C3,\"Ошибка\")","v":"2017-10-01"},"до",{"$f":"Отчет!D2+1","v":"2017-10-01"}]
[null,"А1-1",{"$f":"SUM(I:I)","v":0},{"$f":"SUM(J:J)","v":0}]
[null,"А1-2",{"$f":"SUM(N:N)","v":0},{"$f":"SUM(O:O)","v":0}]
[null,"А1-3",{"$f":"SUM(S:S)","v":0},{"$f":"SUM(T:T)","v":0}]
[null,"А1-4",{"$f":"SUM(X:X)","v":0},{"$f":"SUM(Y:Y)","v":0}]
[null,"А1-5",{"$f":"SUM(AC:AC)","v":0},{"$f":"SUM(AD:AD)","v":0}]
[null,"А1-6",{"$f":"SUM(AH:AH)","v":0},{"$f":"SUM(AI:AI)","v":0}]
[null,"А2-1",{"$f":"SUM(AM:AM)","v":0},{"$f":"SUM(AN:AN)","v":0}]
[null,"А2-2",{"$f":"SUM(AR:AR)","v":0},{"$f":"SUM(AS:AS)","v":0}]
[null,"А2-3",{"$f":"SUM(AW:AW)","v":0},{"$f":"SUM(AX:AX)","v":0}]
[null,"А2-4",{"$f":"SUM(BB:BB)","v":0},{"$f":"SUM(BC:BC)","v":0}]
[null,"А2-5",{"$f":"SUM(BG:BG)","v":0},{"$f":"SUM(BH:BH)","v":0}]
[null,"А3-1",{"$f":"SUM(BL:BL)","v":0},{"$f":"SUM(BM:BM)","v":0}]
[null,"А3-2",{"$f":"SUM(BQ:BQ)","v":0},{"$f":"SUM(BR:BR)","v":0}]
[null,"А3-3",{"$f":"SUM(BV:BV)","v":0},{"$f":"SUM(BW:BW)","v":0}]
[null,"А3-4",{"$f":"SUM(CA:CA)","v":0},{"$f":"SUM(CB:CB)","v":0}]
[null,"А3-5",{"$f":"SUM(CF:CF)","v":0},{"$f":"SUM(CG:CG)","v":0}]
[null,"А3-6",{"$f":"SUM(CK:CK)","v":0},{"$f":"SUM(CL:CL)","v":0}]
[null,"А4-1",{"$f":"SUM(CP:CP)","v":0},{"$f":"SUM(CQ:CQ)","v":0}]
[null,"А4-2",{"$f":"SUM(CU:CU)","v":0},{"$f":"SUM(CV:CV)","v":0}]
[null,"А4-3",{"$f":"SUM(CZ:CZ)","v":0},{"$f":"SUM(DA:DA)","v":0}]
[null,"А4-4",{"$f":"SUM(DE:DE)","v":0},{"$f":"SUM(DF:DF)","v":0}]
[null,"А4-5",{"$f":"SUM(DJ:DJ)","v":0},{"$f":"SUM(DK:DK)","v":0}]
[null,"А5-1",{"$f":"SUM(DO:DO)","v":0},{"$f":"SUM(DP:DP)","v":0}]
[null,"А5-2",{"$f":"SUM(DT:DT)","v":0},{"$f":"SUM(DU:DU)","v":0}]
[null,"А5-3",{"$f":"SUM(DY:DY)","v":0},{"$f":"SUM(DZ:DZ)","v":0}]
[null,"А5-4",{"$f":"SUM(ED:ED)","v":0},{"$f":"SUM(EE:EE)","v":0}]
[null,"А5-5",{"$f":"SUM(EI:EI)","v":0},{"$f":"SUM(EJ:EJ)","v":0}]
[null,"А5-6",{"$f":"SUM(EN:EN)","v":0},{"$f":"SUM(EO:EO)","v":0}]
[null,"А5-7",{"$f":"SUM(ES:ES)","v":0},{"$f":"SUM(ET:ET)","v":0}]
[null,"А6-1",{"$f":"SUM(EX:EX)","v":0},{"$f":"SUM(EY:EY)","v":0}]
[null,"А6-2",{"$f":"SUM(FC:FC)","v":0},{"$f":"SUM(FD:FD)","v":0}]
[null,"А6-3",{"$f":"SUM(FH:FH)","v":0},{"$f":"SUM(FI:FI)","v":0}]
[null,"А6-4",{"$f":"SUM(FM:FM)","v":0},{"$f":"SUM(FN:FN)","v":0}]
[null,"А6-5",{"$f":"SUM(FR:FR)","v":0},{"$f":"SUM(FS:FS)","v":0}]
[null,"А6-6",{"$f":"SUM(FW:FW)","v":0},{"$f":"SUM(FX:FX)","v":0}]
[null,"А6-7",{"$f":"SUM(GB:GB)","v":0},{"$f":"SUM(GC:GC)","v":0}]
[null,"А7-1",{"$f":"SUM(GG:GG)","v":0},{"$f":"SUM(GH:GH)","v":0}]
[null,"А7-2",{"$f":"SUM(GL:GL)","v":0},{"$f":"SUM(GM:GM)","v":0}]
[null,"А7-3",{"$f":"SUM(GQ:GQ)","v":0},{"$f":"SUM(GR:GR)","v":0}]
[null,"А7-4",{"$f":"SUM(GV:GV)","v":0},{"$f":"SUM(GW:GW)","v":0}]
[null,"А7-5",{"$f":"SUM(HA:HA)","v":0},{"$f":"SUM(HB:HB)","v":0}]
[null,"А7-6",{"$f":"SUM(HF:HF)","v":0},{"$f":"SUM(HG:HG)","v":0}]
[null,"А7-7",{"$f":"SUM(HK:HK)","v":0},{"$f":"SUM(HL:HL)","v":0}]
[null,"НВвДО",{"$f":"SUM(HP:HP)","v":0},{"$f":"SUM(HQ:HQ)","v":0}]